BEGIN:VCALENDAR
VERSION:2.0
PRODID:-//SeniorTechDaheim - ECPv6.15.20//NONSGML v1.0//EN
CALSCALE:GREGORIAN
METHOD:PUBLISH
X-WR-CALNAME:SeniorTechDaheim
X-ORIGINAL-URL:https://seniortechdaheim.de
X-WR-CALDESC:Veranstaltungen für SeniorTechDaheim
REFRESH-INTERVAL;VALUE=DURATION:PT1H
X-Robots-Tag:noindex
X-PUBLISHED-TTL:PT1H
BEGIN:VTIMEZONE
TZID:Europe/Berlin
BEGIN:DAYLIGHT
TZOFFSETFROM:+0100
TZOFFSETTO:+0200
TZNAME:CEST
DTSTART:20250330T010000
END:DAYLIGHT
BEGIN:STANDARD
TZOFFSETFROM:+0200
TZOFFSETTO:+0100
TZNAME:CET
DTSTART:20251026T010000
END:STANDARD
BEGIN:DAYLIGHT
TZOFFSETFROM:+0100
TZOFFSETTO:+0200
TZNAME:CEST
DTSTART:20260329T010000
END:DAYLIGHT
BEGIN:STANDARD
TZOFFSETFROM:+0200
TZOFFSETTO:+0100
TZNAME:CET
DTSTART:20261025T010000
END:STANDARD
BEGIN:DAYLIGHT
TZOFFSETFROM:+0100
TZOFFSETTO:+0200
TZNAME:CEST
DTSTART:20270328T010000
END:DAYLIGHT
BEGIN:STANDARD
TZOFFSETFROM:+0200
TZOFFSETTO:+0100
TZNAME:CET
DTSTART:20271031T010000
END:STANDARD
END:VTIMEZONE
BEGIN:VEVENT
DTSTART;TZID=Europe/Berlin:20261113T130000
DTEND;TZID=Europe/Berlin:20261113T170000
DTSTAMP:20260419T165247
CREATED:20260311T174615Z
LAST-MODIFIED:20260311T184025Z
UID:2276-1794574800-1794589200@seniortechdaheim.de
SUMMARY:LebensPhasenHaus
DESCRIPTION:
URL:https://seniortechdaheim.de/event/lebensphasenhaus-35/
LOCATION:LebensPhasenHaus\, Rosenau 9\, Tübingen\, 72076\, Deutschland
ORGANIZER;CN="Universit%C3%A4t T%C3%BCbingen":MAILTO:info@lebensphasenhaus.de
END:VEVENT
BEGIN:VEVENT
DTSTART;TZID=Europe/Berlin:20261117T090000
DTEND;TZID=Europe/Berlin:20261117T120000
DTSTAMP:20260419T165247
CREATED:20260311T125308Z
LAST-MODIFIED:20260311T184004Z
UID:2195-1794906000-1794916800@seniortechdaheim.de
SUMMARY:DaheimDankDigital
DESCRIPTION:
URL:https://seniortechdaheim.de/event/daheimdankdigital-105/
LOCATION:AGAPLESION Bethesda Klinik\, Zollernring 26\, Ulm\, 89073\, Deutschland
ORGANIZER;CN="AGAPLESION Bethesda Klinik":MAILTO:sarah.mayer@agaplesion.de
END:VEVENT
BEGIN:VEVENT
DTSTART;TZID=Europe/Berlin:20261118T140000
DTEND;TZID=Europe/Berlin:20261118T150000
DTSTAMP:20260419T165247
CREATED:20260311T125347Z
LAST-MODIFIED:20260311T183926Z
UID:2197-1795010400-1795014000@seniortechdaheim.de
SUMMARY:DaheimDankDigital
DESCRIPTION:
URL:https://seniortechdaheim.de/event/daheimdankdigital-106/
LOCATION:AGAPLESION Bethesda Klinik\, Zollernring 26\, Ulm\, 89073\, Deutschland
ORGANIZER;CN="AGAPLESION Bethesda Klinik":MAILTO:sarah.mayer@agaplesion.de
END:VEVENT
BEGIN:VEVENT
DTSTART;TZID=Europe/Berlin:20261119T090000
DTEND;TZID=Europe/Berlin:20261119T120000
DTSTAMP:20260419T165247
CREATED:20260311T125420Z
LAST-MODIFIED:20260311T183903Z
UID:2199-1795078800-1795089600@seniortechdaheim.de
SUMMARY:DaheimDankDigital
DESCRIPTION:
URL:https://seniortechdaheim.de/event/daheimdankdigital-107/
END:VEVENT
BEGIN:VEVENT
DTSTART;TZID=Europe/Berlin:20261119T130000
DTEND;TZID=Europe/Berlin:20261119T150000
DTSTAMP:20260419T165247
CREATED:20260311T112334Z
LAST-MODIFIED:20260311T183844Z
UID:2084-1795093200-1795100400@seniortechdaheim.de
SUMMARY:Musterwohnung ILWiA
DESCRIPTION:
URL:https://seniortechdaheim.de/event/musterwohnung-ilwia-26/
LOCATION:Kommunale Beratungsstelle\, Makarenkostraße 38\, Greifswald\, 17491\, Deutschland
ORGANIZER;CN="kommunale Beratungsstelle":MAILTO:info@ilwia.de
END:VEVENT
BEGIN:VEVENT
DTSTART;TZID=Europe/Berlin:20261120T130000
DTEND;TZID=Europe/Berlin:20261120T170000
DTSTAMP:20260419T165247
CREATED:20260311T174530Z
LAST-MODIFIED:20260311T183824Z
UID:2274-1795179600-1795194000@seniortechdaheim.de
SUMMARY:LebensPhasenHaus
DESCRIPTION:
URL:https://seniortechdaheim.de/event/lebensphasenhaus-34/
LOCATION:LebensPhasenHaus\, Rosenau 9\, Tübingen\, 72076\, Deutschland
ORGANIZER;CN="Universit%C3%A4t T%C3%BCbingen":MAILTO:info@lebensphasenhaus.de
END:VEVENT
BEGIN:VEVENT
DTSTART;TZID=Europe/Berlin:20261124T000000
DTEND;TZID=Europe/Berlin:20261124T235959
DTSTAMP:20260419T165247
CREATED:20260311T180829Z
LAST-MODIFIED:20260311T183805Z
UID:2304-1795478400-1795564799@seniortechdaheim.de
SUMMARY:Hilfreiche Technik im @lltag
DESCRIPTION:
URL:https://seniortechdaheim.de/event/hilfreiche-technik-im-lltag-9/
LOCATION:Miteinander-Füreinander Oberes Fuldatal e.V.\, Alte Post\, Am Gericht 3\, Ebersburg - Weyhers\, 36157\, Deutschland
ORGANIZER;CN="Miteinander-F%C3%BCreinander Oberes Fuldatal e.V.":MAILTO:susanne.beh@mit-und-fuer.de
END:VEVENT
BEGIN:VEVENT
DTSTART;TZID=Europe/Berlin:20261124T090000
DTEND;TZID=Europe/Berlin:20261124T120000
DTSTAMP:20260419T165247
CREATED:20260311T125750Z
LAST-MODIFIED:20260311T125750Z
UID:2207-1795510800-1795521600@seniortechdaheim.de
SUMMARY:DaheimDankDigital
DESCRIPTION:
URL:https://seniortechdaheim.de/event/daheimdankdigital-111/
LOCATION:AGAPLESION Bethesda Klinik\, Zollernring 26\, Ulm\, 89073\, Deutschland
ORGANIZER;CN="AGAPLESION Bethesda Klinik":MAILTO:sarah.mayer@agaplesion.de
END:VEVENT
BEGIN:VEVENT
DTSTART;TZID=Europe/Berlin:20261125T140000
DTEND;TZID=Europe/Berlin:20261125T150000
DTSTAMP:20260419T165247
CREATED:20260311T125836Z
LAST-MODIFIED:20260311T183709Z
UID:2209-1795615200-1795618800@seniortechdaheim.de
SUMMARY:DaheimDankDigital
DESCRIPTION:
URL:https://seniortechdaheim.de/event/daheimdankdigital-112/
LOCATION:AGAPLESION Bethesda Klinik\, Zollernring 26\, Ulm\, 89073\, Deutschland
ORGANIZER;CN="AGAPLESION Bethesda Klinik":MAILTO:sarah.mayer@agaplesion.de
END:VEVENT
BEGIN:VEVENT
DTSTART;TZID=Europe/Berlin:20261126T090000
DTEND;TZID=Europe/Berlin:20261126T120000
DTSTAMP:20260419T165247
CREATED:20260311T125916Z
LAST-MODIFIED:20260311T183644Z
UID:2211-1795683600-1795694400@seniortechdaheim.de
SUMMARY:DaheimDankDigital
DESCRIPTION:
URL:https://seniortechdaheim.de/event/daheimdankdigital-113/
LOCATION:AGAPLESION Bethesda Klinik\, Zollernring 26\, Ulm\, 89073\, Deutschland
ORGANIZER;CN="AGAPLESION Bethesda Klinik":MAILTO:sarah.mayer@agaplesion.de
END:VEVENT
BEGIN:VEVENT
DTSTART;TZID=Europe/Berlin:20261126T130000
DTEND;TZID=Europe/Berlin:20261126T150000
DTSTAMP:20260419T165247
CREATED:20260311T112452Z
LAST-MODIFIED:20260311T183625Z
UID:2086-1795698000-1795705200@seniortechdaheim.de
SUMMARY:Musterwohnung ILWiA
DESCRIPTION:
URL:https://seniortechdaheim.de/event/musterwohnung-ilwia-27/
LOCATION:Kommunale Beratungsstelle\, Makarenkostraße 38\, Greifswald\, 17491\, Deutschland
ORGANIZER;CN="kommunale Beratungsstelle":MAILTO:info@ilwia.de
END:VEVENT
BEGIN:VEVENT
DTSTART;TZID=Europe/Berlin:20261127T130000
DTEND;TZID=Europe/Berlin:20261127T170000
DTSTAMP:20260419T165247
CREATED:20260311T174659Z
LAST-MODIFIED:20260311T183545Z
UID:2278-1795784400-1795798800@seniortechdaheim.de
SUMMARY:LebensPhasenHaus
DESCRIPTION:
URL:https://seniortechdaheim.de/event/lebensphasenhaus-36/
LOCATION:LebensPhasenHaus\, Rosenau 9\, Tübingen\, 72076\, Deutschland
ORGANIZER;CN="Universit%C3%A4t T%C3%BCbingen":MAILTO:info@lebensphasenhaus.de
END:VEVENT
BEGIN:VEVENT
DTSTART;TZID=Europe/Berlin:20261127T140000
DTEND;TZID=Europe/Berlin:20261127T160000
DTSTAMP:20260419T165247
CREATED:20240719T141507Z
LAST-MODIFIED:20260311T183528Z
UID:1572-1795788000-1795795200@seniortechdaheim.de
SUMMARY:Ausstellung Barrierefreies Wohnen
DESCRIPTION:
URL:https://seniortechdaheim.de/event/deinhaus-4-0-niederbayern-deggenhof-5/
LOCATION:Kompetenzzentrum Barrierefreies Wohnen\, Konrad-Zuse-Platz 11\, München\, 81829\, Deutschland
ORGANIZER;CN="Komprtenzzentrum Barrierefreies Wohnen":MAILTO:info@komz-wohnen.de
END:VEVENT
BEGIN:VEVENT
DTSTART;TZID=Europe/Berlin:20261201T090000
DTEND;TZID=Europe/Berlin:20261201T120000
DTSTAMP:20260419T165247
CREATED:20260311T130030Z
LAST-MODIFIED:20260311T183510Z
UID:2213-1796115600-1796126400@seniortechdaheim.de
SUMMARY:DaheimDankDigital
DESCRIPTION:
URL:https://seniortechdaheim.de/event/daheimdankdigital-114/
LOCATION:AGAPLESION Bethesda Klinik\, Zollernring 26\, Ulm\, 89073\, Deutschland
ORGANIZER;CN="AGAPLESION Bethesda Klinik":MAILTO:sarah.mayer@agaplesion.de
END:VEVENT
BEGIN:VEVENT
DTSTART;TZID=Europe/Berlin:20261202T140000
DTEND;TZID=Europe/Berlin:20261202T150000
DTSTAMP:20260419T165247
CREATED:20260311T130114Z
LAST-MODIFIED:20260311T183453Z
UID:2215-1796220000-1796223600@seniortechdaheim.de
SUMMARY:DaheimDankDigital
DESCRIPTION:
URL:https://seniortechdaheim.de/event/daheimdankdigital-115/
LOCATION:AGAPLESION Bethesda Klinik\, Zollernring 26\, Ulm\, 89073\, Deutschland
ORGANIZER;CN="AGAPLESION Bethesda Klinik":MAILTO:sarah.mayer@agaplesion.de
END:VEVENT
BEGIN:VEVENT
DTSTART;TZID=Europe/Berlin:20261203T090000
DTEND;TZID=Europe/Berlin:20261203T120000
DTSTAMP:20260419T165247
CREATED:20260311T130148Z
LAST-MODIFIED:20260311T183426Z
UID:2217-1796288400-1796299200@seniortechdaheim.de
SUMMARY:DaheimDankDigital
DESCRIPTION:
URL:https://seniortechdaheim.de/event/daheimdankdigital-116/
LOCATION:AGAPLESION Bethesda Klinik\, Zollernring 26\, Ulm\, 89073\, Deutschland
ORGANIZER;CN="AGAPLESION Bethesda Klinik":MAILTO:sarah.mayer@agaplesion.de
END:VEVENT
BEGIN:VEVENT
DTSTART;TZID=Europe/Berlin:20261203T110000
DTEND;TZID=Europe/Berlin:20261203T170000
DTSTAMP:20260419T165247
CREATED:20240711T113522Z
LAST-MODIFIED:20260311T183411Z
UID:1456-1796295600-1796317200@seniortechdaheim.de
SUMMARY:DeinHaus 4.0 Unterfranken
DESCRIPTION:
URL:https://seniortechdaheim.de/event/deinhaus-4-0-unterfranken-3/
LOCATION:DeinHaus 4.0 Unterfranken\, Münchener Straße 5\, Bad Kissingen\, 97688\, Deutschland
ORGANIZER;CN="DeinHaus 4.0 Unterfranken":MAILTO:info@deinhaus4punkt0.de
END:VEVENT
BEGIN:VEVENT
DTSTART;TZID=Europe/Berlin:20261203T130000
DTEND;TZID=Europe/Berlin:20261203T150000
DTSTAMP:20260419T165247
CREATED:20260311T112602Z
LAST-MODIFIED:20260311T183347Z
UID:2088-1796302800-1796310000@seniortechdaheim.de
SUMMARY:Musterwohnung ILWiA
DESCRIPTION:
URL:https://seniortechdaheim.de/event/musterwohnung-ilwia-28/
LOCATION:Kommunale Beratungsstelle\, Makarenkostraße 38\, Greifswald\, 17491\, Deutschland
ORGANIZER;CN="kommunale Beratungsstelle":MAILTO:info@ilwia.de
END:VEVENT
BEGIN:VEVENT
DTSTART;TZID=Europe/Berlin:20261203T160000
DTEND;TZID=Europe/Berlin:20261203T180000
DTSTAMP:20260419T165247
CREATED:20240704T121816Z
LAST-MODIFIED:20260311T183332Z
UID:1223-1796313600-1796320800@seniortechdaheim.de
SUMMARY:Werkstatt Wohnen
DESCRIPTION:
URL:https://seniortechdaheim.de/event/deinhaus-4-0-wohnkompezenzzentrum-amerang-3/
LOCATION:KVJS Baden-Württemberg\, Lindenspürstraße 39\, Stuttgart West\, 70176\, Deutschland
ORGANIZER;CN="Kommunalverband f%C3%BCr Jugend und Soziales Baden-W%C3%BCrttemberg":MAILTO:wohnberatung@drk-stuttgart.de
END:VEVENT
BEGIN:VEVENT
DTSTART;TZID=Europe/Berlin:20261204T130000
DTEND;TZID=Europe/Berlin:20261204T170000
DTSTAMP:20260419T165247
CREATED:20260311T174808Z
LAST-MODIFIED:20260311T183318Z
UID:2280-1796389200-1796403600@seniortechdaheim.de
SUMMARY:LebensPhasenHaus
DESCRIPTION:
URL:https://seniortechdaheim.de/event/lebensphasenhaus-37/
LOCATION:LebensPhasenHaus\, Rosenau 9\, Tübingen\, 72076\, Deutschland
ORGANIZER;CN="Universit%C3%A4t T%C3%BCbingen":MAILTO:info@lebensphasenhaus.de
END:VEVENT
BEGIN:VEVENT
DTSTART;TZID=Europe/Berlin:20261208T090000
DTEND;TZID=Europe/Berlin:20261208T120000
DTSTAMP:20260419T165247
CREATED:20260311T130239Z
LAST-MODIFIED:20260311T183303Z
UID:2219-1796720400-1796731200@seniortechdaheim.de
SUMMARY:DaheimDankDigital
DESCRIPTION:
URL:https://seniortechdaheim.de/event/daheimdankdigital-117/
LOCATION:AGAPLESION Bethesda Klinik\, Zollernring 26\, Ulm\, 89073\, Deutschland
ORGANIZER;CN="AGAPLESION Bethesda Klinik":MAILTO:sarah.mayer@agaplesion.de
END:VEVENT
BEGIN:VEVENT
DTSTART;TZID=Europe/Berlin:20261209T140000
DTEND;TZID=Europe/Berlin:20261209T150000
DTSTAMP:20260419T165247
CREATED:20260311T130604Z
LAST-MODIFIED:20260311T183243Z
UID:2227-1796824800-1796828400@seniortechdaheim.de
SUMMARY:DaheimDankDigital
DESCRIPTION:
URL:https://seniortechdaheim.de/event/daheimdankdigital-121/
LOCATION:AGAPLESION Bethesda Klinik\, Zollernring 26\, Ulm\, 89073\, Deutschland
ORGANIZER;CN="AGAPLESION Bethesda Klinik":MAILTO:sarah.mayer@agaplesion.de
END:VEVENT
BEGIN:VEVENT
DTSTART;TZID=Europe/Berlin:20261210T090000
DTEND;TZID=Europe/Berlin:20261210T120000
DTSTAMP:20260419T165247
CREATED:20260311T130643Z
LAST-MODIFIED:20260311T183227Z
UID:2229-1796893200-1796904000@seniortechdaheim.de
SUMMARY:DaheimDankDigital
DESCRIPTION:
URL:https://seniortechdaheim.de/event/daheimdankdigital-122/
LOCATION:AGAPLESION Bethesda Klinik\, Zollernring 26\, Ulm\, 89073\, Deutschland
ORGANIZER;CN="AGAPLESION Bethesda Klinik":MAILTO:sarah.mayer@agaplesion.de
END:VEVENT
BEGIN:VEVENT
DTSTART;TZID=Europe/Berlin:20261210T130000
DTEND;TZID=Europe/Berlin:20261210T150000
DTSTAMP:20260419T165247
CREATED:20260311T112711Z
LAST-MODIFIED:20260311T183117Z
UID:2090-1796907600-1796914800@seniortechdaheim.de
SUMMARY:Musterwohnung ILWiA
DESCRIPTION:
URL:https://seniortechdaheim.de/event/musterwohnung-ilwia-29/
LOCATION:Kommunale Beratungsstelle\, Makarenkostraße 38\, Greifswald\, 17491\, Deutschland
ORGANIZER;CN="kommunale Beratungsstelle":MAILTO:info@ilwia.de
END:VEVENT
BEGIN:VEVENT
DTSTART;TZID=Europe/Berlin:20261211T130000
DTEND;TZID=Europe/Berlin:20261211T170000
DTSTAMP:20260419T165247
CREATED:20260311T174853Z
LAST-MODIFIED:20260311T183100Z
UID:2282-1796994000-1797008400@seniortechdaheim.de
SUMMARY:LebensPhasenHaus
DESCRIPTION:
URL:https://seniortechdaheim.de/event/lebensphasenhaus-38/
LOCATION:LebensPhasenHaus\, Rosenau 9\, Tübingen\, 72076\, Deutschland
ORGANIZER;CN="Universit%C3%A4t T%C3%BCbingen":MAILTO:info@lebensphasenhaus.de
END:VEVENT
BEGIN:VEVENT
DTSTART;TZID=Europe/Berlin:20261215T090000
DTEND;TZID=Europe/Berlin:20261215T120000
DTSTAMP:20260419T165247
CREATED:20260311T130809Z
LAST-MODIFIED:20260311T183045Z
UID:2231-1797325200-1797336000@seniortechdaheim.de
SUMMARY:DaheimDankDigital
DESCRIPTION:
URL:https://seniortechdaheim.de/event/daheimdankdigital-123/
LOCATION:AGAPLESION Bethesda Klinik\, Zollernring 26\, Ulm\, 89073\, Deutschland
ORGANIZER;CN="AGAPLESION Bethesda Klinik":MAILTO:sarah.mayer@agaplesion.de
END:VEVENT
BEGIN:VEVENT
DTSTART;TZID=Europe/Berlin:20261216T140000
DTEND;TZID=Europe/Berlin:20261216T150000
DTSTAMP:20260419T165247
CREATED:20260311T130329Z
LAST-MODIFIED:20260311T183028Z
UID:2221-1797429600-1797433200@seniortechdaheim.de
SUMMARY:DaheimDankDigital
DESCRIPTION:
URL:https://seniortechdaheim.de/event/daheimdankdigital-118/
LOCATION:AGAPLESION Bethesda Klinik\, Zollernring 26\, Ulm\, 89073\, Deutschland
ORGANIZER;CN="AGAPLESION Bethesda Klinik":MAILTO:sarah.mayer@agaplesion.de
END:VEVENT
BEGIN:VEVENT
DTSTART;TZID=Europe/Berlin:20261217T090000
DTEND;TZID=Europe/Berlin:20261217T120000
DTSTAMP:20260419T165247
CREATED:20260311T130856Z
LAST-MODIFIED:20260311T183008Z
UID:2233-1797498000-1797508800@seniortechdaheim.de
SUMMARY:DaheimDankDigital
DESCRIPTION:
URL:https://seniortechdaheim.de/event/daheimdankdigital-124/
LOCATION:AGAPLESION Bethesda Klinik\, Zollernring 26\, Ulm\, 89073\, Deutschland
ORGANIZER;CN="AGAPLESION Bethesda Klinik":MAILTO:sarah.mayer@agaplesion.de
END:VEVENT
BEGIN:VEVENT
DTSTART;TZID=Europe/Berlin:20261217T130000
DTEND;TZID=Europe/Berlin:20261217T150000
DTSTAMP:20260419T165247
CREATED:20260311T112804Z
LAST-MODIFIED:20260311T182950Z
UID:2092-1797512400-1797519600@seniortechdaheim.de
SUMMARY:Musterwohnung ILWiA
DESCRIPTION:
URL:https://seniortechdaheim.de/event/musterwohnung-ilwia-30/
LOCATION:Kommunale Beratungsstelle\, Makarenkostraße 38\, Greifswald\, 17491\, Deutschland
ORGANIZER;CN="kommunale Beratungsstelle":MAILTO:info@ilwia.de
END:VEVENT
BEGIN:VEVENT
DTSTART;TZID=Europe/Berlin:20261218T130000
DTEND;TZID=Europe/Berlin:20261218T170000
DTSTAMP:20260419T165247
CREATED:20260311T174934Z
LAST-MODIFIED:20260311T182935Z
UID:2284-1797598800-1797613200@seniortechdaheim.de
SUMMARY:LebensPhasenHaus
DESCRIPTION:
URL:https://seniortechdaheim.de/event/lebensphasenhaus-39/
LOCATION:LebensPhasenHaus\, Rosenau 9\, Tübingen\, 72076\, Deutschland
ORGANIZER;CN="Universit%C3%A4t T%C3%BCbingen":MAILTO:info@lebensphasenhaus.de
END:VEVENT
END:VCALENDAR